BEGIN:VCALENDAR
VERSION:2.0
PRODID:-//The Troubled Monk - ECPv6.15.15//NONSGML v1.0//EN
CALSCALE:GREGORIAN
METHOD:PUBLISH
X-ORIGINAL-URL:https://thetroubledmonk.com
X-WR-CALDESC:Events for The Troubled Monk
REFRESH-INTERVAL;VALUE=DURATION:PT1H
X-Robots-Tag:noindex
X-PUBLISHED-TTL:PT1H
BEGIN:VTIMEZONE
TZID:UTC
BEGIN:STANDARD
TZOFFSETFROM:+0000
TZOFFSETTO:+0000
TZNAME:UTC
DTSTART:20220101T000000
END:STANDARD
END:VTIMEZONE
BEGIN:VEVENT
DTSTART;VALUE=DATE:20230629
DTEND;VALUE=DATE:20240630
DTSTAMP:20260425T003257
CREATED:20240619T005540Z
LAST-MODIFIED:20231204T050152Z
UID:10637-1687996800-1719705599@thetroubledmonk.com
SUMMARY:TBA
DESCRIPTION:
URL:https://thetroubledmonk.com/event/author-ryan-donnelly-book-signing-coming-up-tba-2/
LOCATION:TBA
END:VEVENT
BEGIN:VEVENT
DTSTART;TZID=UTC:20240309T000000
DTEND;TZID=UTC:20240409T160000
DTSTAMP:20260425T003257
CREATED:20240228T235717Z
LAST-MODIFIED:20240311T013037Z
UID:10718-1709942400-1712678400@thetroubledmonk.com
SUMMARY:Indigo Books\, Crossiron Mills
DESCRIPTION:
URL:https://thetroubledmonk.com/event/upcoming-book-signing-at-crossiron-mills-ryan-donnelly/
LOCATION:261055 Crossiron Blvd\, Rocky View AB
END:VEVENT
END:VCALENDAR