BEGIN:VCALENDAR
VERSION:2.0
PRODID:-//wp-events-plugin.com//7.2.3.1//EN
BEGIN:VEVENT
UID:1@thetroubledmonk.com
DTSTART:20260321T180000Z
DTEND:20260321T230000Z
DTSTAMP:20260205T184018Z
URL:https://thetroubledmonk.com/events/indigo-books-crossiron-mills/
SUMMARY:Indigo Books (Crossiron Mills)
DESCRIPTION:
LOCATION:Indigo Books (Crossiron MIlls)\, 261055 Crossiron Blvd #346\,\, Ro
 cky View County\, Canada\, T4A 0G3\, Alberta\, Canada
X-APPLE-STRUCTURED-LOCATION;VALUE=URI;X-ADDRESS=261055 Crossiron Blvd #346\
 ,\, Rocky View County\, Canada\, T4A 0G3\, Alberta\, Canada;X-APPLE-RADIUS
 =100;X-TITLE=Indigo Books (Crossiron MIlls):geo:0,0
END:VEVENT
END:VCALENDAR