BEGIN:VCALENDAR
VERSION:2.0
PRODID:-//The Troubled Monk - ECPv6.15.15//NONSGML v1.0//EN
CALSCALE:GREGORIAN
METHOD:PUBLISH
X-ORIGINAL-URL:https://thetroubledmonk.com
X-WR-CALDESC:Events for The Troubled Monk
REFRESH-INTERVAL;VALUE=DURATION:PT1H
X-Robots-Tag:noindex
X-PUBLISHED-TTL:PT1H
BEGIN:VTIMEZONE
TZID:America/Denver
BEGIN:DAYLIGHT
TZOFFSETFROM:-0700
TZOFFSETTO:-0600
TZNAME:MDT
DTSTART:20250309T090000
END:DAYLIGHT
BEGIN:STANDARD
TZOFFSETFROM:-0600
TZOFFSETTO:-0700
TZNAME:MST
DTSTART:20251102T080000
END:STANDARD
BEGIN:DAYLIGHT
TZOFFSETFROM:-0700
TZOFFSETTO:-0600
TZNAME:MDT
DTSTART:20260308T090000
END:DAYLIGHT
BEGIN:STANDARD
TZOFFSETFROM:-0600
TZOFFSETTO:-0700
TZNAME:MST
DTSTART:20261101T080000
END:STANDARD
BEGIN:DAYLIGHT
TZOFFSETFROM:-0700
TZOFFSETTO:-0600
TZNAME:MDT
DTSTART:20270314T090000
END:DAYLIGHT
BEGIN:STANDARD
TZOFFSETFROM:-0600
TZOFFSETTO:-0700
TZNAME:MST
DTSTART:20271107T080000
END:STANDARD
END:VTIMEZONE
BEGIN:VTIMEZONE
TZID:UTC
BEGIN:STANDARD
TZOFFSETFROM:+0000
TZOFFSETTO:+0000
TZNAME:UTC
DTSTART:20210101T000000
END:STANDARD
END:VTIMEZONE
BEGIN:VTIMEZONE
TZID:Asia/Krasnoyarsk
BEGIN:STANDARD
TZOFFSETFROM:+0700
TZOFFSETTO:+0700
TZNAME:+07
DTSTART:20230101T000000
END:STANDARD
END:VTIMEZONE
BEGIN:VEVENT
DTSTART;TZID=America/Denver:20260321T110000
DTEND;TZID=America/Denver:20260321T160000
DTSTAMP:20260423T183441
CREATED:20260205T184549Z
LAST-MODIFIED:20260205T184549Z
UID:11049-1774090800-1774108800@thetroubledmonk.com
SUMMARY:Indigo Books (Crossiron Mills)
DESCRIPTION:
URL:https://thetroubledmonk.com/event/indigo-books-crossiron-mills/
LOCATION:261055 Crossiron Blvd\, Rocky View AB
END:VEVENT
BEGIN:VEVENT
DTSTART;TZID=UTC:20251205T050000
DTEND;TZID=UTC:20251205T200000
DTSTAMP:20260423T183441
CREATED:20250915T003834Z
LAST-MODIFIED:20250915T003834Z
UID:11011-1764910800-1764964800@thetroubledmonk.com
SUMMARY:Evening With the Authors
DESCRIPTION:
URL:https://thetroubledmonk.com/event/evening-with-the-authors/
LOCATION:Ground Press Coffee\, 106 Sierra Springs Dr SE Unit 111\, Airdrie\, AB\, Canada
END:VEVENT
BEGIN:VEVENT
DTSTART;TZID=Asia/Krasnoyarsk:20251122T120000
DTEND;TZID=Asia/Krasnoyarsk:20251122T160000
DTSTAMP:20260423T183441
CREATED:20250325T170956Z
LAST-MODIFIED:20251024T222848Z
UID:10910-1763812800-1763827200@thetroubledmonk.com
SUMMARY:Cafe Books
DESCRIPTION:
URL:https://thetroubledmonk.com/event/cafe-books-book-signing-2/
LOCATION:Cafe Books\, #100 826 Main Street\, Canmore\, Alberta\, Canada
END:VEVENT
BEGIN:VEVENT
DTSTART;TZID=Asia/Krasnoyarsk:20251029T190000
DTEND;TZID=Asia/Krasnoyarsk:20251029T210000
DTSTAMP:20260423T183441
CREATED:20240229T000251Z
LAST-MODIFIED:20251024T225027Z
UID:10722-1761764400-1761771600@thetroubledmonk.com
SUMMARY:Inspire Library
DESCRIPTION:
URL:https://thetroubledmonk.com/event/inspire-library/
LOCATION:Airdrie Inspire Library\, 805 Main St S\, Airdrie\,\, AB\, T4B 3G1\, Canada
END:VEVENT
BEGIN:VEVENT
DTSTART;TZID=UTC:20251025T120000
DTEND;TZID=UTC:20251025T160000
DTSTAMP:20260423T183441
CREATED:20250930T205257Z
LAST-MODIFIED:20250930T205348Z
UID:11014-1761393600-1761408000@thetroubledmonk.com
SUMMARY:Crossiron Mills Indigo Books
DESCRIPTION:
URL:https://thetroubledmonk.com/event/crossiron-mills-indigo-books/
LOCATION:261055 Crossiron Blvd\, Rocky View AB
END:VEVENT
BEGIN:VEVENT
DTSTART;TZID=Asia/Krasnoyarsk:20250223T110000
DTEND;TZID=Asia/Krasnoyarsk:20250223T150000
DTSTAMP:20260423T183441
CREATED:20250208T004506Z
LAST-MODIFIED:20250208T170728Z
UID:10900-1740308400-1740322800@thetroubledmonk.com
SUMMARY:Ground Press Coffee
DESCRIPTION:
URL:https://thetroubledmonk.com/event/ground-press-coffee/
LOCATION:Ground Press Coffee\, 106 Sierra Springs Dr SE Unit 111\, Airdrie\, AB\, Canada
END:VEVENT
BEGIN:VEVENT
DTSTART;TZID=UTC:20240525T110000
DTEND;TZID=UTC:20240525T160000
DTSTAMP:20260423T183441
CREATED:20240507T015208Z
LAST-MODIFIED:20240507T015208Z
UID:10799-1716634800-1716652800@thetroubledmonk.com
SUMMARY:Indigo Dalhousie
DESCRIPTION:
URL:https://thetroubledmonk.com/event/indigo-dalhousie/
LOCATION:Indigo Dalhousie\, 5005 Dalhousie Drive N.W.\, Calgary\, AB\, Canada
END:VEVENT
BEGIN:VEVENT
DTSTART;TZID=UTC:20240518T120000
DTEND;TZID=UTC:20240518T160000
DTSTAMP:20260423T183441
CREATED:20240429T225855Z
LAST-MODIFIED:20240429T230006Z
UID:10784-1716033600-1716048000@thetroubledmonk.com
SUMMARY:Indigospirit Market Mall
DESCRIPTION:
URL:https://thetroubledmonk.com/event/indigospirit-market-mall/
LOCATION:Indigospirit Market Mall\, Calgary\, Canada
END:VEVENT
BEGIN:VEVENT
DTSTART;TZID=UTC:20240511T120000
DTEND;TZID=UTC:20240511T160000
DTSTAMP:20260423T183441
CREATED:20230619T005320Z
LAST-MODIFIED:20240429T230425Z
UID:10633-1715428800-1715443200@thetroubledmonk.com
SUMMARY:Indigo Crossiron Mills
DESCRIPTION:
URL:https://thetroubledmonk.com/event/author-ryan-donnelly-book-signing-coming-up-tba/
LOCATION:Indigo Crossiron mall\, 261055 Crossiron Blvd\, Rocky View\, Alberta\, Canada
END:VEVENT
BEGIN:VEVENT
DTSTART;TZID=UTC:20240309T000000
DTEND;TZID=UTC:20240409T160000
DTSTAMP:20260423T183441
CREATED:20240228T235717Z
LAST-MODIFIED:20240311T013037Z
UID:10718-1709942400-1712678400@thetroubledmonk.com
SUMMARY:Indigo Books\, Crossiron Mills
DESCRIPTION:
URL:https://thetroubledmonk.com/event/upcoming-book-signing-at-crossiron-mills-ryan-donnelly/
LOCATION:261055 Crossiron Blvd\, Rocky View AB
END:VEVENT
BEGIN:VEVENT
DTSTART;TZID=Asia/Krasnoyarsk:20240217T120000
DTEND;TZID=Asia/Krasnoyarsk:20240217T160000
DTSTAMP:20260423T183441
CREATED:20240229T001232Z
LAST-MODIFIED:20240229T002454Z
UID:10727-1708171200-1708185600@thetroubledmonk.com
SUMMARY:Cafe Books\, Canmore Alberta
DESCRIPTION:
URL:https://thetroubledmonk.com/event/cafe-books-canmore-alberta/
LOCATION:#100 826 Main Street\, Canmore AB
END:VEVENT
BEGIN:VEVENT
DTSTART;VALUE=DATE:20230629
DTEND;VALUE=DATE:20240630
DTSTAMP:20260423T183441
CREATED:20240619T005540Z
LAST-MODIFIED:20231204T050152Z
UID:10637-1687996800-1719705599@thetroubledmonk.com
SUMMARY:TBA
DESCRIPTION:
URL:https://thetroubledmonk.com/event/author-ryan-donnelly-book-signing-coming-up-tba-2/
LOCATION:TBA
END:VEVENT
BEGIN:VEVENT
DTSTART;VALUE=DATE:20230627
DTEND;VALUE=DATE:20230628
DTSTAMP:20260423T183441
CREATED:20240619T010103Z
LAST-MODIFIED:20231204T050259Z
UID:10640-1687824000-1687910399@thetroubledmonk.com
SUMMARY:TBA
DESCRIPTION:
URL:https://thetroubledmonk.com/event/author-ryan-donnelly-book-signing-coming-up-tba-3/
LOCATION:TBA
END:VEVENT
BEGIN:VEVENT
DTSTART;TZID=UTC:20230625T120000
DTEND;TZID=UTC:20230625T160000
DTSTAMP:20260423T183441
CREATED:20190704T234828Z
LAST-MODIFIED:20230619T005811Z
UID:10214-1687694400-1687708800@thetroubledmonk.com
SUMMARY:Indigo\, Crossiron Mills\, Rocky View
DESCRIPTION:
URL:https://thetroubledmonk.com/event/author-ryan-donnelly-book-signing-coming-up/
LOCATION:Indigo Crossiron mall\, 261055 Crossiron Blvd\, Rocky View\, Alberta\, Canada
END:VEVENT
BEGIN:VEVENT
DTSTART;TZID=UTC:20221004T080000
DTEND;TZID=UTC:20221004T170000
DTSTAMP:20260423T183441
CREATED:20240207T054251Z
LAST-MODIFIED:20231204T050335Z
UID:10406-1664870400-1664902800@thetroubledmonk.com
SUMMARY:TBA
DESCRIPTION:TBA
URL:https://thetroubledmonk.com/event/tba-2/
ORGANIZER;CN="Like Themes":MAILTO:support@like-themes.com
END:VEVENT
BEGIN:VEVENT
DTSTART;TZID=UTC:20221003T080000
DTEND;TZID=UTC:20221003T170000
DTSTAMP:20260423T183441
CREATED:20240207T054337Z
LAST-MODIFIED:20231204T050448Z
UID:10410-1664784000-1664816400@thetroubledmonk.com
SUMMARY:TBA
DESCRIPTION:TBA
URL:https://thetroubledmonk.com/event/tba-3/
ORGANIZER;CN="Like Themes":MAILTO:support@like-themes.com
END:VEVENT
END:VCALENDAR