BEGIN:VCALENDAR
VERSION:2.0
PRODID:-//The Troubled Monk - ECPv6.15.15//NONSGML v1.0//EN
CALSCALE:GREGORIAN
METHOD:PUBLISH
X-ORIGINAL-URL:https://thetroubledmonk.com
X-WR-CALDESC:Events for The Troubled Monk
REFRESH-INTERVAL;VALUE=DURATION:PT1H
X-Robots-Tag:noindex
X-PUBLISHED-TTL:PT1H
BEGIN:VTIMEZONE
TZID:Asia/Krasnoyarsk
BEGIN:STANDARD
TZOFFSETFROM:+0700
TZOFFSETTO:+0700
TZNAME:+07
DTSTART:20240101T000000
END:STANDARD
END:VTIMEZONE
BEGIN:VEVENT
DTSTART;TZID=Asia/Krasnoyarsk:20250223T110000
DTEND;TZID=Asia/Krasnoyarsk:20250223T150000
DTSTAMP:20260424T092310
CREATED:20250208T004506Z
LAST-MODIFIED:20250208T170728Z
UID:10900-1740308400-1740322800@thetroubledmonk.com
SUMMARY:Ground Press Coffee
DESCRIPTION:
URL:https://thetroubledmonk.com/event/ground-press-coffee/
LOCATION:Ground Press Coffee\, 106 Sierra Springs Dr SE Unit 111\, Airdrie\, AB\, Canada
END:VEVENT
END:VCALENDAR